BEGIN:VCALENDAR
VERSION:2.0
PRODID:-//CARROLL COUNTY REPUBLICANS - ECPv6.15.20//NONSGML v1.0//EN
CALSCALE:GREGORIAN
METHOD:PUBLISH
X-WR-CALNAME:CARROLL COUNTY REPUBLICANS
X-ORIGINAL-URL:https://ccilgop.com
X-WR-CALDESC:Events for CARROLL COUNTY REPUBLICANS
REFRESH-INTERVAL;VALUE=DURATION:PT1H
X-Robots-Tag:noindex
X-PUBLISHED-TTL:PT1H
BEGIN:VTIMEZONE
TZID:UTC
BEGIN:STANDARD
TZOFFSETFROM:+0000
TZOFFSETTO:+0000
TZNAME:UTC
DTSTART:20240101T000000
END:STANDARD
END:VTIMEZONE
BEGIN:VEVENT
DTSTART;TZID=UTC:20250903T170000
DTEND;TZID=UTC:20250903T190000
DTSTAMP:20260421T101307
CREATED:20250624T214821Z
LAST-MODIFIED:20250624T215205Z
UID:364-1756918800-1756926000@ccilgop.com
SUMMARY:Petition Signing Event
DESCRIPTION:Carroll County Republicans \nPetition Signing Event and Ice Cream Social \nSign candidate’s petitions and enjoy delicious ice cream \nWednesday\, Sept 3rd\, 2025 \n5PM – 7PM \nDavis Community Center \n631 S East St\, Mt Carroll\, IL \nTo help our candidates get on the ballot sponsorships available: Gold: $250 | Silver: $100 | Bronze $75 \nTo sponsor or for questions contact: Amy Buss 815.590.6713 or Lana Soldat 815.499.5481
URL:https://ccilgop.com/event/petition-signing-event/
LOCATION:Davis Community Center\, 631 South E St\, Mount Carroll\, IL\, 61053\, United States
CATEGORIES:Meet and Greet
ATTACH;FMTTYPE=image/png:https://ccilgop.com/wp-content/uploads/2025/06/IMG_3967.png
END:VEVENT
END:VCALENDAR